View In:
ArcGIS JavaScript
ArcGIS Online map viewer
ArcGIS Earth
Service Description: Image Service provides historic imagery from the mid-20th century. Images are sourced from the USGS Earth Explorer, Single Frame Archive. Image vintage ranges from 1946 to 1977. The service is intended to represent the earliest available, reasonably clear image. Data are in WGS 1984 Web Mercator (Auxiliary Sphere) (EPSG:3857). Spatial resolution is approximately 1-meter. Contacts: Montana State Library, geoinfo@mt.gov, and University of Montana, Numerical Terradynamic Simulation Group. Additional information about aerial imagery within Montana, including photo dates and tile indexes, available at: https://msl.mt.gov/geoinfo/data/Aerial_Photos/
Name: MSL/Historic_Imagery_Mid20thCentury
Description: Image Service provides historic imagery from the mid-20th century. Images are sourced from the USGS Earth Explorer, Single Frame Archive. Image vintage ranges from 1946 to 1977. The service is intended to represent the earliest available, reasonably clear image. Data are in WGS 1984 Web Mercator (Auxiliary Sphere) (EPSG:3857). Spatial resolution is approximately 1-meter. Contacts: Montana State Library, geoinfo@mt.gov, and University of Montana, Numerical Terradynamic Simulation Group. Additional information about aerial imagery within Montana, including photo dates and tile indexes, available at: https://msl.mt.gov/geoinfo/data/Aerial_Photos/
Single Fused Map Cache: false
Extent:
XMin: -1.2960001000599999E7
YMin: 5495995.163522949
XMax: -1.1579999999322735E7
YMax: 6283013.909100004
Spatial Reference: 102100
(3857)
LatestVCSWkid(0)
Initial Extent:
XMin: -1.2960001000599999E7
YMin: 5495995.163522949
XMax: -1.1579999999322735E7
YMax: 6283013.909100004
Spatial Reference: 102100
(3857)
LatestVCSWkid(0)
Full Extent:
XMin: -1.2960001000599999E7
YMin: 5495995.163522949
XMax: -1.1579999999322735E7
YMax: 6283013.909100004
Spatial Reference: 102100
(3857)
LatestVCSWkid(0)
Pixel Size X: 0.001149843549215029
Pixel Size Y: 0.0011498435492150298
Band Count: 1
Pixel Type: U8
RasterFunction Infos: {"rasterFunctionInfos": [{
"name": "None",
"description": "",
"help": ""
}]}
Mensuration Capabilities: None
Inspection Capabilities:
Has Histograms: true
Has Colormap: false
Has Multi Dimensions : false
Rendering Rule:
Min Scale: 0
Max Scale: 0
Copyright Text: Montana State Library and University of Montana. More information about the historic imagery is available at: https://www.landscapeexplorer.org/. Additional information about aerial imagery within Montana available at: https://msl.mt.gov/geoinfo/data/Aerial_Photos/
Service Data Type: esriImageServiceDataTypeGeneric
Min Values: 0
Max Values: 255
Mean Values: 171.55069520627774
Standard Deviation Values: 32.207570623020004
Object ID Field: OBJECTID
Fields:
-
OBJECTID
(
type: esriFieldTypeOID, alias: OBJECTID
)
-
Shape
(
type: esriFieldTypeGeometry, alias: Shape
)
-
Name
(
type: esriFieldTypeString, alias: Name, length: 200
)
-
MinPS
(
type: esriFieldTypeDouble, alias: MinPS
)
-
MaxPS
(
type: esriFieldTypeDouble, alias: MaxPS
)
-
LowPS
(
type: esriFieldTypeDouble, alias: LowPS
)
-
HighPS
(
type: esriFieldTypeDouble, alias: HighPS
)
-
Category
(
type: esriFieldTypeInteger, alias: Category
, Coded Values:
[0: Unknown]
, [1: Primary]
, [2: Overview]
, ...6 more...
)
-
Tag
(
type: esriFieldTypeString, alias: Tag, length: 100
)
-
GroupName
(
type: esriFieldTypeString, alias: GroupName, length: 100
)
-
ProductName
(
type: esriFieldTypeString, alias: ProductName, length: 100
)
-
CenterX
(
type: esriFieldTypeDouble, alias: CenterX
)
-
CenterY
(
type: esriFieldTypeDouble, alias: CenterY
)
-
ZOrder
(
type: esriFieldTypeInteger, alias: ZOrder
)
-
Shape_Length
(
type: esriFieldTypeDouble, alias: Shape_Length
)
-
Shape_Area
(
type: esriFieldTypeDouble, alias: Shape_Area
)
Default Mosaic Method: Northwest
Allowed Mosaic Methods: NorthWest,Center,LockRaster,ByAttribute,Nadir,Viewpoint,Seamline,None
SortField:
SortValue: null
Mosaic Operator: First
Default Compression Quality: 75
Default Resampling Method: Bilinear
Max Record Count: 1000
Max Image Height: 4100
Max Image Width: 15000
Max Download Image Count: 20
Max Mosaic Image Count: 25
Allow Raster Function: true
Allow Copy: true
Allow Analysis: true
Allow Compute TiePoints: false
Supports Statistics: true
Supports Advanced Queries: true
Use StandardizedQueries: true
Raster Type Infos:
Name: Raster Dataset
Description: Supports all ArcGIS Raster Datasets
Help:
Has Raster Attribute Table: false
Edit Fields Info: null
Ownership Based AccessControl For Rasters: null
Child Resources:
Info
Histograms
Statistics
Key Properties
Legend
Raster Function Infos
Supported Operations:
Export Image
Query
Identify
Compute Histograms
Compute Statistics Histograms
Get Samples
Compute Class Statistics
Query GPS Info
Find Images
Image to Map
Map to Image
Measure from Image
Image to Map Multiray
Query Boundary
Compute Pixel Location
Compute Angles
Validate
Project