View In:
ArcGIS JavaScript
ArcGIS Online map viewer
ArcGIS Earth
Service Description: This raster dataset represents the spatial distribution of the number of days in which the daily minimum temperature is greater than 32 degrees fahrenheit based on a 5 in 10 year probablility. This data set differs form the other data in this collection in that cryic soils data has been embedded into the raster.
Name: MSL/FrostFreeDays
Description: This raster dataset represents the spatial distribution of the number of days in which the daily minimum temperature is greater than 32 degrees fahrenheit based on a 5 in 10 year probablility. This data set differs form the other data in this collection in that cryic soils data has been embedded into the raster.
Single Fused Map Cache: false
Extent:
XMin: 93147.6608003173
YMin: -29676.033155397512
XMax: 1073907.6608003173
YMax: 674333.9668446025
Spatial Reference: 32100
(32100)
LatestVCSWkid(0)
Initial Extent:
XMin: 93147.6608003173
YMin: -29676.033155397512
XMax: 1073907.6608003173
YMax: 674333.9668446025
Spatial Reference: 32100
(32100)
LatestVCSWkid(0)
Full Extent:
XMin: 93147.6608003173
YMin: -29676.033155397512
XMax: 1073907.6608003173
YMax: 674333.9668446025
Spatial Reference: 32100
(32100)
LatestVCSWkid(0)
Pixel Size X: 30.0
Pixel Size Y: 30.0
Band Count: 1
Pixel Type: U8
RasterFunction Infos: {"rasterFunctionInfos": [
{
"name": "None",
"description": "Make a Raster or Raster Dataset into a Function Raster Dataset.",
"help": ""
},
{
"name": "DkBlu2YellowUniqueValuesReMove",
"description": "A raster function template.",
"help": ""
}
]}
Mensuration Capabilities: Basic
Inspection Capabilities:
Has Histograms: true
Has Colormap: false
Has Multi Dimensions : false
Rendering Rule:
Min Scale: 0
Max Scale: 0
Resampling: false
Copyright Text: NRCS, Bozeman, MT
Service Data Type: esriImageServiceDataTypeGeneric
Min Values: 14
Max Values: 154
Mean Values: 100.47565416108588
Standard Deviation Values: 28.42134270279121
Object ID Field:
Fields:
None
Default Mosaic Method: Center
Allowed Mosaic Methods:
SortField:
SortValue: null
Mosaic Operator: First
Default Compression Quality: 75
Default Resampling Method: Bilinear
Max Record Count: null
Max Image Height: 4100
Max Image Width: 15000
Max Download Image Count: null
Max Mosaic Image Count: null
Allow Raster Function: true
Allow Copy: true
Allow Analysis: true
Allow Compute TiePoints: false
Supports Statistics: false
Supports Advanced Queries: false
Use StandardizedQueries: true
Raster Type Infos:
Name: Raster Dataset
Description: Supports all ArcGIS Raster Datasets
Help:
Has Raster Attribute Table: true
Edit Fields Info: null
Ownership Based AccessControl For Rasters: null
Child Resources:
Info
Raster Attribute Table
Histograms
Statistics
Key Properties
Legend
Raster Function Infos
Supported Operations:
Export Image
Identify
Measure
Compute Histograms
Compute Statistics Histograms
Get Samples
Compute Class Statistics
Query Boundary
Compute Pixel Location
Compute Angles
Validate
Project