View In:
ArcGIS JavaScript
ArcGIS Online map viewer
ArcGIS Earth
ArcMap
View Footprint In:
ArcGIS Online map viewer
Service Description: This service provides a static base map of Montana designed to be viewed at a scale of approximately 1:100,000.Data shown on the map includes public land ownership, selected federal and state managed areas, lakes, streams, roads, the Public Land Survey system, 50-foot contours, shaded relief, and selected buildings and structures.The maps were produced by the Montana State Library with the latest data that was available in January 2016. Please see the GIS Data List at the Montana State Library for a more complete description of the service.The map legend for the service is available at http://ftp.geoinfo.msl.mt.gov/Documents/Metadata/Reference100k.tif.
Name: MSL/Reference100k_cached
Description: This service provides a static base map of Montana designed to be viewed at a scale of approximately 1:100,000.Data shown on the map includes public land ownership, selected federal and state managed areas, lakes, streams, roads, the Public Land Survey system, 50-foot contours, shaded relief, and selected buildings and structures.The maps were produced by the Montana State Library with the latest data that was available in January 2016. Please see the GIS Data List at the Montana State Library for a more complete description of the service.The map legend for the service is available at http://ftp.geoinfo.msl.mt.gov/Documents/Metadata/Reference100k.tif.
Single Fused Map Cache: false
Extent:
XMin: -1.3027730124552445E7
YMin: 5464197.981396837
XMax: -1.157404495018706E7
YMax: 6275055.575760174
Spatial Reference:
102100
(3857)
Initial Extent:
XMin: -1.3027730124552445E7
YMin: 5464197.981396837
XMax: -1.157404495018706E7
YMax: 6275055.575760174
Spatial Reference:
102100
(3857)
Full Extent:
XMin: -1.3027730124552445E7
YMin: 5464197.981396837
XMax: -1.157404495018706E7
YMax: 6275055.575760174
Spatial Reference:
102100
(3857)
Pixel Size X: 9.68026353043475
Pixel Size Y: 9.68026353043475
Band Count: 3
Pixel Type: U8
RasterFunction Infos: {"rasterFunctionInfos": [{
"name": "None",
"description": "",
"help": ""
}]}
Mensuration Capabilities: None
Has Histograms: true
Has Colormap: false
Has Multi Dimensions : false
Rendering Rule:
Min Scale: 5.91657527591555E8
Max Scale: 36111.909643
Copyright Text: Montana State Library; U.S. Geological Survey; Montana Fish, Wildife and Parks
Service Data Type: esriImageServiceDataTypeRGB
Min Values: 2, 0, 0
Max Values: 255, 255, 255
Mean Values: 215.89710028337646, 206.1362787090789, 169.39715898796194
Standard Deviation Values: 30.554827329920606, 23.904056722131752, 37.545425145970455
Object ID Field: OBJECTID
Fields:
-
OBJECTID
(
type: esriFieldTypeOID
,
alias: OBJECTID
)
-
Shape
(
type: esriFieldTypeGeometry
,
alias: Shape
)
-
Name
(
type: esriFieldTypeString
,
alias: Name
,
length: 200
)
-
MinPS
(
type: esriFieldTypeDouble
,
alias: MinPS
)
-
MaxPS
(
type: esriFieldTypeDouble
,
alias: MaxPS
)
-
LowPS
(
type: esriFieldTypeDouble
,
alias: LowPS
)
-
HighPS
(
type: esriFieldTypeDouble
,
alias: HighPS
)
-
Category
(
type: esriFieldTypeInteger
,
alias: Category
,
Coded Values:
[0: Unknown]
,
[1: Primary]
,
[2: Overview]
, ...5 more...
)
-
CenterX
(
type: esriFieldTypeDouble
,
alias: CenterX
)
-
CenterY
(
type: esriFieldTypeDouble
,
alias: CenterY
)
-
Shape_Length
(
type: esriFieldTypeDouble
,
alias: Shape_Length
)
-
Shape_Area
(
type: esriFieldTypeDouble
,
alias: Shape_Area
)
Default Mosaic Method: Northwest
Allowed Mosaic Methods: NorthWest,Center,LockRaster,ByAttribute,Nadir,Viewpoint,Seamline,None
SortField:
SortValue: null
Mosaic Operator: First
Default Compression Quality: 85
Default Resampling Method: Bilinear
Max Record Count: 1000
Max Image Height: 4100
Max Image Width: 15000
Max Download Image Count: 20
Max Mosaic Image Count: 20
Allow Raster Function: true
Allow Compute TiePoints: false
Supports Statistics: true
Supports Advanced Queries: true
Use StandardizedQueries: true
Raster Type Infos:
Name: Raster Dataset
Description: Supports all ArcGIS Raster Datasets
Help:
Has Raster Attribute Table: false
Edit Fields Info: null
Ownership Based AccessControl For Rasters: null
Child Resources:
Info
Histograms
Key Properties
Legend
MultiDimensionalInfo
rasterFunctionInfos
Supported Operations:
Export Image
Query
Identify
Compute Histograms
Compute Statistics Histograms
Get Samples
Compute Class Statistics
Query Boundary