{
 "currentVersion": 11.3,
 "serviceDescription": "Each county dataset consists of a 10 meter resolution grid with the relative effective annual precipitation (REAP) in both centimeters and inches. The data provided here has been calibrated for individual counties and edge-matched to provide consistent values for statewide uses.",
 "name": "MSL/RelativeEffectiveAnnualPrecipitation",
 "description": "Each county dataset consists of a 10 meter resolution grid with the relative effective annual precipitation (REAP) in both centimeters and inches. The data provided here has been calibrated for individual counties and edge-matched to provide consistent values for statewide uses.",
 "extent": {
  "xmin": 101635.83865414717,
  "ymin": -14229.51131975744,
  "xmax": 1031285.8386541472,
  "ymax": 551080.4886802426,
  "spatialReference": {
   "wkid": 32100,
   "latestWkid": 32100
  }
 },
 "initialExtent": {
  "xmin": 101635.83865414717,
  "ymin": -14229.51131975744,
  "xmax": 1031285.8386541472,
  "ymax": 551080.4886802426,
  "spatialReference": {
   "wkid": 32100,
   "latestWkid": 32100
  }
 },
 "fullExtent": {
  "xmin": 101635.83865414717,
  "ymin": -14229.51131975744,
  "xmax": 1031285.8386541472,
  "ymax": 551080.4886802426,
  "spatialReference": {
   "wkid": 32100,
   "latestWkid": 32100
  }
 },
 "sortableFields": "",
 "bandCount": 1,
 "pixelType": "U16",
 "minValues": [
  13
 ],
 "maxValues": [
  334
 ],
 "meanValues": [
  49.9805718781648
 ],
 "stdvValues": [
  31.433330049962425
 ],
 "hasMultidimensions": false,
 "pixelSizeX": 10,
 "pixelSizeY": 10,
 "meanPixelSize": 10,
 "datasetFormat": "FGDBR",
 "uncompressedSize": 10510808830,
 "blockWidth": 128,
 "blockHeight": 128,
 "compressionType": "LZ77",
 "bandNames": [
  "Band_1"
 ],
 "allowCopy": true,
 "allowAnalysis": true,
 "itemAccess": false,
 "inspectionCapabilities": "",
 "minPixelSize": 0,
 "maxPixelSize": 0,
 "copyrightText": "Acknowledgement of Montana - NRCS is appreciated.",
 "serviceDataType": "esriImageServiceDataTypeThematic",
 "serviceSourceType": "esriImageServiceSourceTypeDataset",
 "objectIdField": "",
 "fields": [],
 "capabilities": "Mensuration,Image,Metadata",
 "defaultMosaicMethod": "Center",
 "allowedMosaicMethods": "",
 "sortField": "",
 "sortValue": null,
 "sortAscending": true,
 "mosaicOperator": "First",
 "defaultCompressionQuality": 75,
 "defaultResamplingMethod": "Bilinear",
 "maxImageHeight": 4100,
 "maxImageWidth": 15000,
 "allowRasterFunction": true,
 "rasterFunctionInfos": [
  {
   "name": "None",
   "description": "Make a Raster or Raster Dataset into a Function Raster Dataset.",
   "help": ""
  },
  {
   "name": "Unique ValuesV2",
   "description": "A raster function template.",
   "help": ""
  },
  {
   "name": "CentimetersToInches",
   "description": "A raster function template.",
   "help": ""
  }
 ],
 "rasterTypeInfos": [
  {
   "name": "Raster Dataset",
   "description": "Supports all ArcGIS Raster Datasets",
   "help": ""
  }
 ],
 "mensurationCapabilities": "Basic",
 "hasHistograms": true,
 "hasColormap": false,
 "hasRasterAttributeTable": true,
 "minScale": 0,
 "maxScale": 0,
 "exportTilesAllowed": false,
 "supportsStatistics": false,
 "supportsAdvancedQueries": false,
 "editFieldsInfo": null,
 "ownershipBasedAccessControlForRasters": null,
 "allowComputeTiePoints": false,
 "useStandardizedQueries": true,
 "advancedQueryCapabilities": {
  "useStandardizedQueries": true,
  "supportsStatistics": false,
  "supportsOrderBy": false,
  "supportsDistinct": false,
  "supportsPagination": false
 },
 "spatialReference": {
  "wkid": 32100,
  "latestWkid": 32100
 },
 "resampling": false
}
