View In:
ArcGIS JavaScript
ArcGIS Online map viewer
ArcGIS Earth
ArcMap
View Footprint In:
ArcGIS Online map viewer
Service Description: 2019 and 2020 NAIP imagery for the state of Montana
Name: MSDI_Framework/NAIP_2019
Description: 2019 and 2020 NAIP imagery for the state of Montana
Single Fused Map Cache: false
Extent:
XMin: -1.29204419016E7
YMin: 5513502.492000003
XMax: -1.15767965016E7
YMax: 6286031.292000003
Spatial Reference:
102100
(3857)
Initial Extent:
XMin: -1.29204419016E7
YMin: 5513502.492000003
XMax: -1.15767965016E7
YMax: 6286031.292000003
Spatial Reference:
102100
(3857)
Full Extent:
XMin: -1.29204419016E7
YMin: 5513502.492000003
XMax: -1.15767965016E7
YMax: 6286031.292000003
Spatial Reference:
102100
(3857)
Pixel Size X: 0.6000000000000002
Pixel Size Y: 0.5999999999999999
Band Count: 4
Pixel Type: U8
RasterFunction Infos: {"rasterFunctionInfos": [{
"name": "None",
"description": "A No-Op Function.",
"help": ""
}]}
Mensuration Capabilities: None
Has Histograms: true
Has Colormap: false
Has Multi Dimensions : false
Rendering Rule:
Min Scale: 0
Max Scale: 0
Copyright Text:
Service Data Type: esriImageServiceDataTypeGeneric
Min Values: 12, 22, 23, 1
Max Values: 238, 236, 235, 233
Mean Values: 112.50013949249514, 116.33020415501532, 93.44641690277237, 147.37263715212404
Standard Deviation Values: 39.122943345916326, 30.50382958270751, 24.92254319503488, 28.166741401891656
Object ID Field: OBJECTID
Fields:
-
OBJECTID
(
type: esriFieldTypeOID
,
alias: OBJECTID
)
-
Shape
(
type: esriFieldTypeGeometry
,
alias: Shape
)
-
Name
(
type: esriFieldTypeString
,
alias: Name
,
length: 200
)
-
MinPS
(
type: esriFieldTypeDouble
,
alias: MinPS
)
-
MaxPS
(
type: esriFieldTypeDouble
,
alias: MaxPS
)
-
LowPS
(
type: esriFieldTypeDouble
,
alias: LowPS
)
-
HighPS
(
type: esriFieldTypeDouble
,
alias: HighPS
)
-
Category
(
type: esriFieldTypeInteger
,
alias: Category
,
Coded Values:
[0: Unknown]
,
[1: Primary]
,
[2: Overview]
, ...6 more...
)
-
Tag
(
type: esriFieldTypeString
,
alias: Tag
,
length: 100
)
-
GroupName
(
type: esriFieldTypeString
,
alias: GroupName
,
length: 100
)
-
ProductName
(
type: esriFieldTypeString
,
alias: ProductName
,
length: 100
)
-
CenterX
(
type: esriFieldTypeDouble
,
alias: CenterX
)
-
CenterY
(
type: esriFieldTypeDouble
,
alias: CenterY
)
-
ZOrder
(
type: esriFieldTypeInteger
,
alias: ZOrder
)
-
Year
(
type: esriFieldTypeInteger
,
alias: Year
)
-
Shape_Length
(
type: esriFieldTypeDouble
,
alias: Shape_Length
)
-
Shape_Area
(
type: esriFieldTypeDouble
,
alias: Shape_Area
)
Default Mosaic Method: ByAttribute
Allowed Mosaic Methods: ByAttribute,Center,LockRaster
SortField: Year
SortValue: 3000
Mosaic Operator: First
Default Compression Quality: 75
Default Resampling Method: Bilinear
Max Record Count: 1000
Max Image Height: 4100
Max Image Width: 15000
Max Download Image Count: 20
Max Mosaic Image Count: 20
Allow Raster Function: true
Allow Compute TiePoints: false
Supports Statistics: true
Supports Advanced Queries: true
Use StandardizedQueries: true
Raster Type Infos:
Name: Raster Dataset
Description: Supports all ArcGIS Raster Datasets
Help:
Has Raster Attribute Table: false
Edit Fields Info: null
Ownership Based AccessControl For Rasters: null
Child Resources:
Info
Histograms
Key Properties
Legend
MultiDimensionalInfo
rasterFunctionInfos
Supported Operations:
Export Image
Query
Identify
Compute Histograms
Compute Statistics Histograms
Get Samples
Compute Class Statistics
Query Boundary